BEGIN:VCALENDAR
VERSION:2.0
PRODID:-//wp-events-plugin.com//7.2.3.1//EN
TZID:America/New_York
X-WR-TIMEZONE:America/New_York
BEGIN:VEVENT
UID:590@templechaverim.org
DTSTART;TZID=America/New_York:20260709T090000
DTEND;TZID=America/New_York:20260709T203000
DTSTAMP:20260414T143745Z
URL:https://www.templechaverim.org/events/save-the-date-annual-gala-with-g
 olf-dinner-dancing/
SUMMARY:Annual Gala with Golf Dinner & Dancing
DESCRIPTION:Click here to register \n[pdf-embedder url="https://www.templec
 haverim.org/wp-content/uploads/2026/01/white-green-minimalist-Golf-Tournam
 ent-Poster-template-9.pdf" title="white green minimalist Golf Tournament P
 oster template (9)"]
END:VEVENT
BEGIN:VTIMEZONE
TZID:America/New_York
X-LIC-LOCATION:America/New_York
BEGIN:DAYLIGHT
DTSTART:20260308T030000
TZOFFSETFROM:-0500
TZOFFSETTO:-0400
TZNAME:EDT
END:DAYLIGHT
END:VTIMEZONE
END:VCALENDAR