BEGIN:VCALENDAR
VERSION:2.0
PRODID:-//wp-events-plugin.com//7.2.3.1//EN
TZID:America/New_York
X-WR-TIMEZONE:America/New_York
BEGIN:VEVENT
UID:7@templechaverim.org
DTSTART;TZID=America/New_York:20190930T133000
DTEND;TZID=America/New_York:20190930T133000
DTSTAMP:20190909T233034Z
URL:https://www.templechaverim.org/events/rosh-hashana-young-family-servic
 es/
SUMMARY:Rosh Hashanah Young Family Services
DESCRIPTION:For children 3--8 and their families\n\nFree for the community.
 \n\nContact Susan at (516) 367-6100\, ext. 101\, or by email at susan@temp
 lechaverim.org.
ATTACH;FMTTYPE=image/jpeg:https://www.templechaverim.org/wp-content/upload
 s/2019/07/RHapplesHoney_0.jpg
CATEGORIES:Preschool Programs
LOCATION:Temple Chaverim\, 1050 Washington Avenue\, Plainview\, NY\, 11803\
 , United States
X-APPLE-STRUCTURED-LOCATION;VALUE=URI;X-ADDRESS=1050 Washington Avenue\, Pl
 ainview\, NY\, 11803\, United States;X-APPLE-RADIUS=100;X-TITLE=Temple Cha
 verim:geo:0,0
END:VEVENT
BEGIN:VTIMEZONE
TZID:America/New_York
X-LIC-LOCATION:America/New_York
BEGIN:DAYLIGHT
DTSTART:20190310T030000
TZOFFSETFROM:-0500
TZOFFSETTO:-0400
TZNAME:EDT
END:DAYLIGHT
END:VTIMEZONE
END:VCALENDAR