BEGIN:VCALENDAR
VERSION:2.0
PRODID:-//wp-events-plugin.com//7.2.3.1//EN
TZID:America/New_York
X-WR-TIMEZONE:America/New_York
BEGIN:VEVENT
UID:385@templechaverim.org
DTSTART;TZID=America/New_York:20220316T193000
DTEND;TZID=America/New_York:20220316T203000
DTSTAMP:20220214T191938Z
URL:https://www.templechaverim.org/events/purim-adult-beit-cafe-wednesday-
 march-16-2022-730-pm/
SUMMARY:Purim Adult Beit Cafe\, Wednesday\, March 16\, 2022 @ 7:30 pm.
DESCRIPTION:[gravityform id="139" title="true" description="true"]
END:VEVENT
BEGIN:VTIMEZONE
TZID:America/New_York
X-LIC-LOCATION:America/New_York
BEGIN:DAYLIGHT
DTSTART:20220313T030000
TZOFFSETFROM:-0500
TZOFFSETTO:-0400
TZNAME:EDT
END:DAYLIGHT
END:VTIMEZONE
END:VCALENDAR